BEGIN:VCALENDAR
VERSION:2.0
PRODID:-//Verein zur Förderung der Grundschule Ostseebad Boltenhagen e.V. - ECPv6.15.20//NONSGML v1.0//EN
CALSCALE:GREGORIAN
METHOD:PUBLISH
X-ORIGINAL-URL:https://schulfoerderverein-boltenhagen.de
X-WR-CALDESC:Veranstaltungen für Verein zur Förderung der Grundschule Ostseebad Boltenhagen e.V.
REFRESH-INTERVAL;VALUE=DURATION:PT1H
X-Robots-Tag:noindex
X-PUBLISHED-TTL:PT1H
BEGIN:VTIMEZONE
TZID:Europe/Berlin
BEGIN:DAYLIGHT
TZOFFSETFROM:+0100
TZOFFSETTO:+0200
TZNAME:CEST
DTSTART:20240331T010000
END:DAYLIGHT
BEGIN:STANDARD
TZOFFSETFROM:+0200
TZOFFSETTO:+0100
TZNAME:CET
DTSTART:20241027T010000
END:STANDARD
BEGIN:DAYLIGHT
TZOFFSETFROM:+0100
TZOFFSETTO:+0200
TZNAME:CEST
DTSTART:20250330T010000
END:DAYLIGHT
BEGIN:STANDARD
TZOFFSETFROM:+0200
TZOFFSETTO:+0100
TZNAME:CET
DTSTART:20251026T010000
END:STANDARD
BEGIN:DAYLIGHT
TZOFFSETFROM:+0100
TZOFFSETTO:+0200
TZNAME:CEST
DTSTART:20260329T010000
END:DAYLIGHT
BEGIN:STANDARD
TZOFFSETFROM:+0200
TZOFFSETTO:+0100
TZNAME:CET
DTSTART:20261025T010000
END:STANDARD
END:VTIMEZONE
BEGIN:VEVENT
DTSTART;TZID=Europe/Berlin:20250906T090000
DTEND;TZID=Europe/Berlin:20250906T110000
DTSTAMP:20260423T065215
CREATED:20250902T145327Z
LAST-MODIFIED:20250902T145327Z
UID:2197-1757149200-1757156400@schulfoerderverein-boltenhagen.de
SUMMARY:Einschulung 6.9.2025 9Uhr
DESCRIPTION:Liebe Mitglieder und Interessierte\, \nam 6.9.2025 werden erneut wundervolle Kinder den nächsten Schritt tun. \nDen Schritt in Richtung Grundschule – ein Meilenstein! Und zwar nicht nur für die Kids. Auch die Eltern und Großeltern fiebern diesem Tag entgegen. \nDer Vorstand des Vereins wird diesen Tag wieder mit Getränken und kleinen Snacks begleiten.\nWir freuen uns auf Euch! \nWir wünschen den 3 Klassen 1a\, 1b und 1c viel Erfolg und einen wunderschönen Tag der Schuleinführung!
URL:https://schulfoerderverein-boltenhagen.de/veranstaltungen/einschulung-6-9-2025-9uhr/
LOCATION:Sporthalle der Grundschule Ostseebad Boltenhagen\, Klützer Straße 11-15\, Ostseebad Boltenhagen\, 23946\, Germany
ORGANIZER;CN="Verein zur F%C3%B6rderung der Grundschule Ostseebad Boltenhagen e.V.":MAILTO:info@schulfoerderverein-boltenhagen.de
END:VEVENT
BEGIN:VEVENT
DTSTART;TZID=Europe/Berlin:20250930T180000
DTEND;TZID=Europe/Berlin:20250930T200000
DTSTAMP:20260423T065215
CREATED:20250902T145603Z
LAST-MODIFIED:20250902T145603Z
UID:2201-1759255200-1759262400@schulfoerderverein-boltenhagen.de
SUMMARY:Mitgliederversammlung 30.09.2025
DESCRIPTION:Die jährliche Mitgliederversammlung des Schulfördervereins findet \n  \nam Dienstag\, dem 30. 09.2025 um 18.00 Uhr  \n  \nim Kur- und Festsaal (Klützer Str. 11-15\, 23946 Ostseebad Boltenhagen) statt. \n  \nDazu laden wir Sie herzlich ein. \n  \nFolgende Punkte stehen auf der Tagesordnung: \n  \n\nBegrüßung und Feststellung der ordnungsgemäßen Einladung\nRechenschaftsbericht der Vorstandvorsitzenden (mit anschließender Diskussion)\nKassenbericht (mit anschließender Diskussion)\nEntlastung des Vorstandes (mit anschließender Diskussion)\nProjekte\, Veranstaltungen und Anschaffungen:\na) Rückblick \nb) Ausblick \nc) Sonstiges\n\n  \nWir freuen uns über Ihr Erscheinen. \nIm Interesse unserer Grundschulkinder ist jede Mithilfe wünschenswert.  \n  \n  \nMit freundlichen Grüßen \n  \nIhr Vorstand \n  \n 
URL:https://schulfoerderverein-boltenhagen.de/veranstaltungen/mitgliederversammlung-30-09-2025/
LOCATION:Kur- und Festsaal Ostseebad Boltenhagen\, Klützer Str.11-15\, Ostseebad Boltenhagen\, Mecklenburg Vorpommern\, 23946\, Deutschland
ORGANIZER;CN="Verein zur F%C3%B6rderung der Grundschule Ostseebad Boltenhagen e.V.":MAILTO:info@schulfoerderverein-boltenhagen.de
END:VEVENT
END:VCALENDAR